BEGIN:VCALENDAR
VERSION:2.0
PRODID:-//wp-events-plugin.com//7.2.3.1//EN
TZID:America/Caracas
X-WR-TIMEZONE:America/Caracas
BEGIN:VEVENT
UID:391@redactivateyconstruye.org
DTSTART;TZID=America/Caracas:20260430T150000
DTEND;TZID=America/Caracas:20260430T160000
DTSTAMP:20260422T162513Z
URL:https://www.redactivateyconstruye.org/eventos/a-comunidad-en-la-constr
 uccion-del-futuro/
SUMMARY:Red Actívate y Construye: Webinar Planificación Estratégica Part
 icipativa: Involucrando a la comunidad en la construcción del futuro
DESCRIPTION:Estimados miembros de la Red Actívate y Construye\, líderes y
  organizaciones comunitarias:\n\nDesde la Red Actívate y Construye de Fun
 dación Empresas Polar\, tenemos el gusto de invitarte a participar en el 
 próximo webinar titulado “Planificación Estratégica Participativa: In
 volucrando a la comunidad en la construcción del futuro”\, que se lleva
 rá a cabo el jueves 30 de abril de 2026\, a las 3:00 p.m. (hora de Venezu
 ela)\, a través del canal oficial de Empresas Polar en YouTube.\n\nEn est
 a edición contaremos con la participación de Andrea Pereira\, socióloga
  y especialista en Gestión de Proyectos.\n\nDurante la sesión\, los part
 icipantes podrán:\n\n 	Reflexionar sobre la importancia de la participaci
 ón comunitaria en los procesos de planificación estratégica.\n 	Identif
 icar claves para involucrar a distintos actores en la construcción de sol
 uciones colectivas.\n 	Reconocer herramientas prácticas para facilitar pr
 ocesos participativos en sus comunidades.\n 	Comprender cómo la planifica
 ción participativa fortalece el compromiso\, la sostenibilidad y el impac
 to de las iniciativas.\n\nLa participación en este encuentro es gratuita\
 , con inscripción previa a través del siguiente enlace:\nhttps://forms.g
 le/qRPwmXXh2DxjBuTX9\n\nAl completar tu registro\, visualizarás el enlace
  de acceso a la plataforma donde se transmitirá la conferencia.\n\nEl web
 inar será transmitido en vivo a través del canal oficial de Empresas Pol
 ar en YouTube:\nhttps://www.youtube.com/@EmpresasPolarOficial/streams\n\nA
 gradecemos tu interés en continuar fortaleciendo sus capacidades y lidera
 zgo dentro de sus organizaciones y comunidades. Los invitamos a compartir 
 esta información con otras personas y equipos que puedan beneficiarse de 
 este contenido.\n\nAtentamente\,\n\nEquipo de la Red Actívate y Construye
 \nFundación Empresas Polar\n\n#SomosRedActívateyConstruye\n#FundaciónEm
 presasPolar\n#SeguimosContigo
ATTACH;FMTTYPE=image/jpeg:https://www.redactivateyconstruye.org/wp-content
 /uploads/2026/04/Webinar-2026_-Invitacion-Horizontal-2.jpg
CATEGORIES:Webinar
LOCATION:https://www.youtube.com/@EmpresasPolarOficial
END:VEVENT
BEGIN:VTIMEZONE
TZID:America/Caracas
X-LIC-LOCATION:America/Caracas
BEGIN:STANDARD
DTSTART:20250430T150000
TZOFFSETFROM:-0400
TZOFFSETTO:-0400
TZNAME:-04
END:STANDARD
END:VTIMEZONE
END:VCALENDAR